<?xml version="1.0" encoding="UTF-8"?>
<Capabilities xmlns="http://www.opengis.net/wmts/1.0"
	xmlns:ows="http://www.opengis.net/ows/1.1"
	xmlns:xlink="http://www.w3.org/1999/xlink"
	xmlns:xsi="http://www.w3.org/2001/XMLSchema-instance"
	xmlns:gml="http://www.opengis.net/gml"
	xsi:schemaLocation="http://www.opengis.net/wmts/1.0 http://schemas.opengis.net/wmts/1.0/wmtsGetCapabilities_response.xsd"
	version="1.0.0">
  <!-- Service Identification --> 
 <ows:ServiceIdentification>
	<ows:Title>Aerials_Aerials_GIS_T2026_Aerials_SP</ows:Title>
	<ows:ServiceType>OGC WMTS</ows:ServiceType>
	<ows:ServiceTypeVersion>1.0.0</ows:ServiceTypeVersion>
</ows:ServiceIdentification> <!-- Operations Metadata --> <ows:OperationsMetadata>
	<ows:Operation name="GetCapabilities">
		<ows:DCP>
			<ows:HTTP>
				<ows:Get xlink:href="https://gis.pittcountync.gov/image/rest/services/Aerials/Aerials_GIS_T2026_Aerials_SP/ImageServer/WMTS/1.0.0/WMTSCapabilities.xml">
					<ows:Constraint name="GetEncoding">
						<ows:AllowedValues>
							<ows:Value>RESTful</ows:Value>
						</ows:AllowedValues>
					</ows:Constraint>
				</ows:Get>
                <!-- add KVP binding in 10.1 -->
                <ows:Get xlink:href="https://gis.pittcountync.gov/image/rest/services/Aerials/Aerials_GIS_T2026_Aerials_SP/ImageServer/WMTS?">
                  <ows:Constraint name="GetEncoding">
                    <ows:AllowedValues>
                      <ows:Value>KVP</ows:Value>
                    </ows:AllowedValues>
                  </ows:Constraint>
                </ows:Get>
    		</ows:HTTP>
    </ows:DCP>
	</ows:Operation>
	<ows:Operation name="GetTile">
		<ows:DCP>
			<ows:HTTP>
				<ows:Get xlink:href="https://gis.pittcountync.gov/image/rest/services/Aerials/Aerials_GIS_T2026_Aerials_SP/ImageServer/WMTS/tile/1.0.0/">
					<ows:Constraint name="GetEncoding">
						<ows:AllowedValues>
							<ows:Value>RESTful</ows:Value>
						</ows:AllowedValues>
					</ows:Constraint>
				</ows:Get>
                <ows:Get xlink:href="https://gis.pittcountync.gov/image/rest/services/Aerials/Aerials_GIS_T2026_Aerials_SP/ImageServer/WMTS?">
                  <ows:Constraint name="GetEncoding">
                    <ows:AllowedValues>
                      <ows:Value>KVP</ows:Value>
                    </ows:AllowedValues>
                  </ows:Constraint>
                </ows:Get>
            </ows:HTTP>
		</ows:DCP>
	</ows:Operation>
</ows:OperationsMetadata> 
<Contents>
  <!--Layer-->  
  <Layer>
    <ows:Title>Aerials_Aerials_GIS_T2026_Aerials_SP</ows:Title> 
    <ows:Identifier>Aerials_Aerials_GIS_T2026_Aerials_SP</ows:Identifier>
    <ows:BoundingBox crs="urn:ogc:def:crs:EPSG::2264">
	  <ows:LowerCorner>2383392.0 576576.0</ows:LowerCorner>
			<ows:UpperCorner>2570832.0 764016.0</ows:UpperCorner>
		</ows:BoundingBox>  
      <ows:WGS84BoundingBox crs="urn:ogc:def:crs:OGC:2:84">
      <ows:LowerCorner>-77.71455930440078 35.319129383884736</ows:LowerCorner>
      <ows:UpperCorner>-77.0740483597477 35.84236649662086</ows:UpperCorner>
    </ows:WGS84BoundingBox>
    <Style isDefault="true">
      <ows:Title>Default Style</ows:Title>
      <ows:Identifier>default</ows:Identifier>
    </Style>
    <Format>image/jpgpng</Format>
    <TileMatrixSetLink>
      <TileMatrixSet>default028mm</TileMatrixSet>
    </TileMatrixSetLink>
      <ResourceURL format="image/jpgpng" resourceType="tile" template="https://gis.pittcountync.gov/image/rest/services/Aerials/Aerials_GIS_T2026_Aerials_SP/ImageServer/WMTS/tile/1.0.0/Aerials_Aerials_GIS_T2026_Aerials_SP/{Style}/{TileMatrixSet}/{TileMatrix}/{TileRow}/{TileCol}" />
  </Layer> 
   <!--TileMatrixSet-->
   <TileMatrixSet>
     <ows:Title>TileMatrix using 0.28mm</ows:Title>
     <ows:Abstract>The tile matrix set that has scale values calculated based on the dpi defined by OGC specification (dpi assumes 0.28mm as the physical distance of a pixel).</ows:Abstract> 
     <ows:Identifier>default028mm</ows:Identifier>
     <ows:SupportedCRS>urn:ogc:def:crs:EPSG::2264</ows:SupportedCRS>
      <TileMatrix>
          <ows:Identifier>0</ows:Identifier>
          <ScaleDenominator>580572.589716535</ScaleDenominator>
          <TopLeftCorner>-1.218419E8 1.540248E8</TopLeftCorner>  
          <TileWidth>256</TileWidth> 
          <TileHeight>256</TileHeight>
          <MatrixWidth>912</MatrixWidth> 
            <MatrixHeight>1124</MatrixHeight>
          </TileMatrix>
          <TileMatrix>
          <ows:Identifier>1</ows:Identifier>
          <ScaleDenominator>290286.2948582675</ScaleDenominator>
          <TopLeftCorner>-1.218419E8 1.540248E8</TopLeftCorner>  
          <TileWidth>256</TileWidth> 
          <TileHeight>256</TileHeight>
          <MatrixWidth>1823</MatrixWidth> 
            <MatrixHeight>2248</MatrixHeight>
          </TileMatrix>
          <TileMatrix>
          <ows:Identifier>2</ows:Identifier>
          <ScaleDenominator>145143.14742913374</ScaleDenominator>
          <TopLeftCorner>-1.218419E8 1.540248E8</TopLeftCorner>  
          <TileWidth>256</TileWidth> 
          <TileHeight>256</TileHeight>
          <MatrixWidth>3645</MatrixWidth> 
            <MatrixHeight>4496</MatrixHeight>
          </TileMatrix>
          <TileMatrix>
          <ows:Identifier>3</ows:Identifier>
          <ScaleDenominator>72571.57371456687</ScaleDenominator>
          <TopLeftCorner>-1.218419E8 1.540248E8</TopLeftCorner>  
          <TileWidth>256</TileWidth> 
          <TileHeight>256</TileHeight>
          <MatrixWidth>7290</MatrixWidth> 
            <MatrixHeight>8992</MatrixHeight>
          </TileMatrix>
          <TileMatrix>
          <ows:Identifier>4</ows:Identifier>
          <ScaleDenominator>36285.786857283434</ScaleDenominator>
          <TopLeftCorner>-1.218419E8 1.540248E8</TopLeftCorner>  
          <TileWidth>256</TileWidth> 
          <TileHeight>256</TileHeight>
          <MatrixWidth>14580</MatrixWidth> 
            <MatrixHeight>17983</MatrixHeight>
          </TileMatrix>
          <TileMatrix>
          <ows:Identifier>5</ows:Identifier>
          <ScaleDenominator>18142.893428641717</ScaleDenominator>
          <TopLeftCorner>-1.218419E8 1.540248E8</TopLeftCorner>  
          <TileWidth>256</TileWidth> 
          <TileHeight>256</TileHeight>
          <MatrixWidth>29160</MatrixWidth> 
            <MatrixHeight>35965</MatrixHeight>
          </TileMatrix>
          <TileMatrix>
          <ows:Identifier>6</ows:Identifier>
          <ScaleDenominator>9071.446714320859</ScaleDenominator>
          <TopLeftCorner>-1.218419E8 1.540248E8</TopLeftCorner>  
          <TileWidth>256</TileWidth> 
          <TileHeight>256</TileHeight>
          <MatrixWidth>58319</MatrixWidth> 
            <MatrixHeight>71929</MatrixHeight>
          </TileMatrix>
          <TileMatrix>
          <ows:Identifier>7</ows:Identifier>
          <ScaleDenominator>4535.723357160429</ScaleDenominator>
          <TopLeftCorner>-1.218419E8 1.540248E8</TopLeftCorner>  
          <TileWidth>256</TileWidth> 
          <TileHeight>256</TileHeight>
          <MatrixWidth>116637</MatrixWidth> 
            <MatrixHeight>143858</MatrixHeight>
          </TileMatrix>
          <TileMatrix>
          <ows:Identifier>8</ows:Identifier>
          <ScaleDenominator>2267.8616785802146</ScaleDenominator>
          <TopLeftCorner>-1.218419E8 1.540248E8</TopLeftCorner>  
          <TileWidth>256</TileWidth> 
          <TileHeight>256</TileHeight>
          <MatrixWidth>233274</MatrixWidth> 
            <MatrixHeight>287716</MatrixHeight>
          </TileMatrix>
          <TileMatrix>
          <ows:Identifier>9</ows:Identifier>
          <ScaleDenominator>1133.9308392901073</ScaleDenominator>
          <TopLeftCorner>-1.218419E8 1.540248E8</TopLeftCorner>  
          <TileWidth>256</TileWidth> 
          <TileHeight>256</TileHeight>
          <MatrixWidth>466548</MatrixWidth> 
            <MatrixHeight>575431</MatrixHeight>
          </TileMatrix>
          <TileMatrix>
          <ows:Identifier>10</ows:Identifier>
          <ScaleDenominator>566.9654196450537</ScaleDenominator>
          <TopLeftCorner>-1.218419E8 1.540248E8</TopLeftCorner>  
          <TileWidth>256</TileWidth> 
          <TileHeight>256</TileHeight>
          <MatrixWidth>933096</MatrixWidth> 
            <MatrixHeight>1150862</MatrixHeight>
          </TileMatrix>
          <TileMatrix>
          <ows:Identifier>11</ows:Identifier>
          <ScaleDenominator>283.48270982252683</ScaleDenominator>
          <TopLeftCorner>-1.218419E8 1.540248E8</TopLeftCorner>  
          <TileWidth>256</TileWidth> 
          <TileHeight>256</TileHeight>
          <MatrixWidth>1866191</MatrixWidth> 
            <MatrixHeight>2301724</MatrixHeight>
          </TileMatrix>
          </TileMatrixSet>
   </Contents>
<ServiceMetadataURL xlink:href="https://gis.pittcountync.gov/image/rest/services/Aerials/Aerials_GIS_T2026_Aerials_SP/ImageServer/WMTS/1.0.0/WMTSCapabilities.xml" /> 
</Capabilities>
